BEGIN:VCALENDAR
VERSION:2.0
PRODID:-//CHORE A CORPS - ECPv6.15.16//NONSGML v1.0//EN
CALSCALE:GREGORIAN
METHOD:PUBLISH
X-ORIGINAL-URL:https://choreacorps.fr
X-WR-CALDESC:Évènements pour CHORE A CORPS
REFRESH-INTERVAL;VALUE=DURATION:PT1H
X-Robots-Tag:noindex
X-PUBLISHED-TTL:PT1H
BEGIN:VTIMEZONE
TZID:Europe/Paris
BEGIN:DAYLIGHT
TZOFFSETFROM:+0100
TZOFFSETTO:+0200
TZNAME:CEST
DTSTART:20150329T010000
END:DAYLIGHT
BEGIN:STANDARD
TZOFFSETFROM:+0200
TZOFFSETTO:+0100
TZNAME:CET
DTSTART:20151025T010000
END:STANDARD
BEGIN:DAYLIGHT
TZOFFSETFROM:+0100
TZOFFSETTO:+0200
TZNAME:CEST
DTSTART:20160327T010000
END:DAYLIGHT
BEGIN:STANDARD
TZOFFSETFROM:+0200
TZOFFSETTO:+0100
TZNAME:CET
DTSTART:20161030T010000
END:STANDARD
BEGIN:DAYLIGHT
TZOFFSETFROM:+0100
TZOFFSETTO:+0200
TZNAME:CEST
DTSTART:20170326T010000
END:DAYLIGHT
BEGIN:STANDARD
TZOFFSETFROM:+0200
TZOFFSETTO:+0100
TZNAME:CET
DTSTART:20171029T010000
END:STANDARD
END:VTIMEZONE
BEGIN:VEVENT
DTSTART;TZID=Europe/Paris:20160410T100000
DTEND;TZID=Europe/Paris:20160410T110000
DTSTAMP:20260421T140247
CREATED:20160401T130501Z
LAST-MODIFIED:20160712T135213Z
UID:835-1460282400-1460286000@choreacorps.fr
SUMMARY:Stage de danse - HIP HOP 7-10 ans
DESCRIPTION:CHORE A CORPS organise le Dimanche 10 Avril un stage de Danse Modern’ Jazz avec Ismaël Pourrat et de HIP HOP avec Virginie Turquin au Studio Plume (avenue du Louron) à Colomiers. \nPLANNING: \nDimanche\n10h00-11h00: découverte du HIP HOP : 7-10 ans\n11h15-12h30: découverte du HIP HOP : à partir de 11 ans \n13h30-14h30: Modern’ Jazz enfants : 7-9 ans\n14h45-15h45: Modern’ Jazz enfants : 10-12 ans\n16h00-17h15: Modern’ Jazz enfants : 10-14 ans + Adulte débutant-moyen\n17h45-19h15: Modern’ Jazz Ados Adultes Moyens/ Intermédiaires\n\nTARIFS: \nEnfants: 10 euros le cours\, 2 cours: 17 euros\nAdos adultes:\n12 euros pour 1 cours\n22 euros pour 2 cours\n30 euros pour 3 cours \nPlaces limitées\, réservation obligatoire avant le 6 avril\n-par téléphone au 06 09 10 14 38\n-ou par mail choreacorps@gmail.com\nEn indiquant vos coordonnées ainsi que les cours souhaités. \nA très vite!!! \nCHORE A CORPS
URL:https://choreacorps.fr/agenda/stage-de-danse-hip-hop-7-10-ans/
LOCATION:Studio Plume\, avenue du Louron\, Colomiers\, 31770\, France
CATEGORIES:Stage
END:VEVENT
BEGIN:VEVENT
DTSTART;TZID=Europe/Paris:20160410T111500
DTEND;TZID=Europe/Paris:20160410T123000
DTSTAMP:20260421T140247
CREATED:20160712T130818Z
LAST-MODIFIED:20160712T135213Z
UID:836-1460286900-1460291400@choreacorps.fr
SUMMARY:Stage de danse - HIP HOP à partir de 11 ans
DESCRIPTION:CHORE A CORPS organise le Dimanche 10 Avril un stage de Danse Modern’ Jazz avec Ismaël Pourrat et de HIP HOP avec Virginie Turquin au Studio Plume (avenue du Louron) à Colomiers. \nPLANNING: \nDimanche\n10h00-11h00: découverte du HIP HOP : 7-10 ans\n11h15-12h30: découverte du HIP HOP : à partir de 11 ans \n13h30-14h30: Modern’ Jazz enfants : 7-9 ans\n14h45-15h45: Modern’ Jazz enfants : 10-12 ans\n16h00-17h15: Modern’ Jazz enfants : 10-14 ans + Adulte débutant-moyen\n17h45-19h15: Modern’ Jazz Ados Adultes Moyens/ Intermédiaires\n\nTARIFS: \nEnfants: 10 euros le cours\, 2 cours: 17 euros\nAdos adultes:\n12 euros pour 1 cours\n22 euros pour 2 cours\n30 euros pour 3 cours \nPlaces limitées\, réservation obligatoire avant le 6 avril\n-par téléphone au 06 09 10 14 38\n-ou par mail choreacorps@gmail.com\nEn indiquant vos coordonnées ainsi que les cours souhaités. \nA très vite!!! \nCHORE A CORPS
URL:https://choreacorps.fr/agenda/stage-de-danse-hip-hop-7-10-ans-2/
LOCATION:Studio Plume\, avenue du Louron\, Colomiers\, 31770\, France
CATEGORIES:Stage
END:VEVENT
BEGIN:VEVENT
DTSTART;TZID=Europe/Paris:20160410T133000
DTEND;TZID=Europe/Paris:20160410T143000
DTSTAMP:20260421T140247
CREATED:20160401T130841Z
LAST-MODIFIED:20160712T135213Z
UID:837-1460295000-1460298600@choreacorps.fr
SUMMARY:Stage de danse - Modern' Jazz enfants : 7-9 ans
DESCRIPTION:CHORE A CORPS organise le Dimanche 10 Avril un stage de Danse Modern’ Jazz avec Ismaël Pourrat et de HIP HOP avec Virginie Turquin au Studio Plume (avenue du Louron) à Colomiers. \nPLANNING: \nDimanche\n10h00-11h00: découverte du HIP HOP : 7-10 ans\n11h15-12h30: découverte du HIP HOP : à partir de 11 ans \n13h30-14h30: Modern’ Jazz enfants : 7-9 ans\n14h45-15h45: Modern’ Jazz enfants : 10-12 ans\n16h00-17h15: Modern’ Jazz enfants : 10-14 ans + Adulte débutant-moyen\n17h45-19h15: Modern’ Jazz Ados Adultes Moyens/ Intermédiaires\n\nTARIFS: \nEnfants: 10 euros le cours\, 2 cours: 17 euros\nAdos adultes:\n12 euros pour 1 cours\n22 euros pour 2 cours\n30 euros pour 3 cours \nPlaces limitées\, réservation obligatoire avant le 6 avril\n-par téléphone au 06 09 10 14 38\n-ou par mail choreacorps@gmail.com\nEn indiquant vos coordonnées ainsi que les cours souhaités. \nA très vite!!! \nCHORE A CORPS
URL:https://choreacorps.fr/agenda/stage-de-danse-hip-hop-7-10-ans-2-2/
LOCATION:Studio Plume\, avenue du Louron\, Colomiers\, 31770\, France
CATEGORIES:Stage
END:VEVENT
BEGIN:VEVENT
DTSTART;TZID=Europe/Paris:20160410T144500
DTEND;TZID=Europe/Paris:20160410T154500
DTSTAMP:20260421T140247
CREATED:20160712T131013Z
LAST-MODIFIED:20160712T135212Z
UID:838-1460299500-1460303100@choreacorps.fr
SUMMARY:Stage de danse - Modern' Jazz enfants : 10-12 ans
DESCRIPTION:CHORE A CORPS organise le Dimanche 10 Avril un stage de Danse Modern’ Jazz avec Ismaël Pourrat et de HIP HOP avec Virginie Turquin au Studio Plume (avenue du Louron) à Colomiers. \nPLANNING: \nDimanche\n10h00-11h00: découverte du HIP HOP : 7-10 ans\n11h15-12h30: découverte du HIP HOP : à partir de 11 ans \n13h30-14h30: Modern’ Jazz enfants : 7-9 ans\n14h45-15h45: Modern’ Jazz enfants : 10-12 ans\n16h00-17h15: Modern’ Jazz enfants : 10-14 ans + Adulte débutant-moyen\n17h45-19h15: Modern’ Jazz Ados Adultes Moyens/ Intermédiaires\n\nTARIFS: \nEnfants: 10 euros le cours\, 2 cours: 17 euros\nAdos adultes:\n12 euros pour 1 cours\n22 euros pour 2 cours\n30 euros pour 3 cours \nPlaces limitées\, réservation obligatoire avant le 6 avril\n-par téléphone au 06 09 10 14 38\n-ou par mail choreacorps@gmail.com\nEn indiquant vos coordonnées ainsi que les cours souhaités. \nA très vite!!! \nCHORE A CORPS
URL:https://choreacorps.fr/agenda/stage-de-danse-hip-hop-7-10-ans-2-2-2/
LOCATION:Studio Plume\, avenue du Louron\, Colomiers\, 31770\, France
CATEGORIES:Stage
END:VEVENT
BEGIN:VEVENT
DTSTART;TZID=Europe/Paris:20160410T160000
DTEND;TZID=Europe/Paris:20160410T171500
DTSTAMP:20260421T140247
CREATED:20160712T131159Z
LAST-MODIFIED:20160712T135212Z
UID:839-1460304000-1460308500@choreacorps.fr
SUMMARY:Stage de danse - Modern' Jazz enfants : 10-14 ans + Adulte débutant-moyen
DESCRIPTION:CHORE A CORPS organise le Dimanche 10 Avril un stage de Danse Modern’ Jazz avec Ismaël Pourrat et de HIP HOP avec Virginie Turquin au Studio Plume (avenue du Louron) à Colomiers. \nPLANNING: \nDimanche\n10h00-11h00: découverte du HIP HOP : 7-10 ans\n11h15-12h30: découverte du HIP HOP : à partir de 11 ans \n13h30-14h30: Modern’ Jazz enfants : 7-9 ans\n14h45-15h45: Modern’ Jazz enfants : 10-12 ans\n16h00-17h15: Modern’ Jazz enfants : 10-14 ans + Adulte débutant-moyen\n17h45-19h15: Modern’ Jazz Ados Adultes Moyens/ Intermédiaires\n\nTARIFS: \nEnfants: 10 euros le cours\, 2 cours: 17 euros\nAdos adultes:\n12 euros pour 1 cours\n22 euros pour 2 cours\n30 euros pour 3 cours \nPlaces limitées\, réservation obligatoire avant le 6 avril\n-par téléphone au 06 09 10 14 38\n-ou par mail choreacorps@gmail.com\nEn indiquant vos coordonnées ainsi que les cours souhaités. \nA très vite!!! \nCHORE A CORPS
URL:https://choreacorps.fr/agenda/stage-de-danse-hip-hop-7-10-ans-2-2-2-2/
LOCATION:Studio Plume\, avenue du Louron\, Colomiers\, 31770\, France
CATEGORIES:Stage
END:VEVENT
BEGIN:VEVENT
DTSTART;TZID=Europe/Paris:20160410T174500
DTEND;TZID=Europe/Paris:20160410T191500
DTSTAMP:20260421T140247
CREATED:20160712T131245Z
LAST-MODIFIED:20160712T135212Z
UID:840-1460310300-1460315700@choreacorps.fr
SUMMARY:Stage de danse - Modern' Jazz Ados Adultes Moyens/ Intermédiaires
DESCRIPTION:CHORE A CORPS organise le Dimanche 10 Avril un stage de Danse Modern’ Jazz avec Ismaël Pourrat et de HIP HOP avec Virginie Turquin au Studio Plume (avenue du Louron) à Colomiers. \nPLANNING: \nDimanche\n10h00-11h00: découverte du HIP HOP : 7-10 ans\n11h15-12h30: découverte du HIP HOP : à partir de 11 ans \n13h30-14h30: Modern’ Jazz enfants : 7-9 ans\n14h45-15h45: Modern’ Jazz enfants : 10-12 ans\n16h00-17h15: Modern’ Jazz enfants : 10-14 ans + Adulte débutant-moyen\n17h45-19h15: Modern’ Jazz Ados Adultes Moyens/ Intermédiaires\n\nTARIFS: \nEnfants: 10 euros le cours\, 2 cours: 17 euros\nAdos adultes:\n12 euros pour 1 cours\n22 euros pour 2 cours\n30 euros pour 3 cours \nPlaces limitées\, réservation obligatoire avant le 6 avril\n-par téléphone au 06 09 10 14 38\n-ou par mail choreacorps@gmail.com\nEn indiquant vos coordonnées ainsi que les cours souhaités. \nA très vite!!! \nCHORE A CORPS
URL:https://choreacorps.fr/agenda/stage-de-danse-hip-hop-7-10-ans-2-2-2-2-2/
LOCATION:Studio Plume\, avenue du Louron\, Colomiers\, 31770\, France
CATEGORIES:Stage
END:VEVENT
END:VCALENDAR