BEGIN:VCALENDAR
VERSION:2.0
PRODID:-//CHORE A CORPS - ECPv6.15.16//NONSGML v1.0//EN
CALSCALE:GREGORIAN
METHOD:PUBLISH
X-ORIGINAL-URL:https://choreacorps.fr
X-WR-CALDESC:Évènements pour CHORE A CORPS
REFRESH-INTERVAL;VALUE=DURATION:PT1H
X-Robots-Tag:noindex
X-PUBLISHED-TTL:PT1H
BEGIN:VTIMEZONE
TZID:Europe/Paris
BEGIN:DAYLIGHT
TZOFFSETFROM:+0100
TZOFFSETTO:+0200
TZNAME:CEST
DTSTART:20170326T010000
END:DAYLIGHT
BEGIN:STANDARD
TZOFFSETFROM:+0200
TZOFFSETTO:+0100
TZNAME:CET
DTSTART:20171029T010000
END:STANDARD
BEGIN:DAYLIGHT
TZOFFSETFROM:+0100
TZOFFSETTO:+0200
TZNAME:CEST
DTSTART:20180325T010000
END:DAYLIGHT
BEGIN:STANDARD
TZOFFSETFROM:+0200
TZOFFSETTO:+0100
TZNAME:CET
DTSTART:20181028T010000
END:STANDARD
BEGIN:DAYLIGHT
TZOFFSETFROM:+0100
TZOFFSETTO:+0200
TZNAME:CEST
DTSTART:20190331T010000
END:DAYLIGHT
BEGIN:STANDARD
TZOFFSETFROM:+0200
TZOFFSETTO:+0100
TZNAME:CET
DTSTART:20191027T010000
END:STANDARD
END:VTIMEZONE
BEGIN:VEVENT
DTSTART;VALUE=DATE:20181128
DTEND;VALUE=DATE:20181129
DTSTAMP:20260424T052950
CREATED:20181127T092749Z
LAST-MODIFIED:20181127T094311Z
UID:13525-1543363200-1543449599@choreacorps.fr
SUMMARY:Hip hop / Abstrac : Pas de cours jeudi 29 novembre 2018 avec Thomas
DESCRIPTION:Thomas rattrapera ce cours le premier samedi de la rentrée : le 12 janvier 2019 après-midi.
URL:https://choreacorps.fr/agenda/hip-hop-abstrac-pas-de-cours-jeudi-29-novembre-2018-avec-thomas/
LOCATION:Studio Accor’Dance à Colomiers\, 11\, Chemin De Bordeblanque\, Colomiers\, 31770\, France
CATEGORIES:Modifications Planning
END:VEVENT
END:VCALENDAR