BEGIN:VCALENDAR
VERSION:2.0
PRODID:-//CHORE A CORPS - ECPv6.15.16//NONSGML v1.0//EN
CALSCALE:GREGORIAN
METHOD:PUBLISH
X-ORIGINAL-URL:https://choreacorps.fr
X-WR-CALDESC:Évènements pour CHORE A CORPS
REFRESH-INTERVAL;VALUE=DURATION:PT1H
X-Robots-Tag:noindex
X-PUBLISHED-TTL:PT1H
BEGIN:VTIMEZONE
TZID:Europe/Paris
BEGIN:DAYLIGHT
TZOFFSETFROM:+0100
TZOFFSETTO:+0200
TZNAME:CEST
DTSTART:20170326T010000
END:DAYLIGHT
BEGIN:STANDARD
TZOFFSETFROM:+0200
TZOFFSETTO:+0100
TZNAME:CET
DTSTART:20171029T010000
END:STANDARD
BEGIN:DAYLIGHT
TZOFFSETFROM:+0100
TZOFFSETTO:+0200
TZNAME:CEST
DTSTART:20180325T010000
END:DAYLIGHT
BEGIN:STANDARD
TZOFFSETFROM:+0200
TZOFFSETTO:+0100
TZNAME:CET
DTSTART:20181028T010000
END:STANDARD
BEGIN:DAYLIGHT
TZOFFSETFROM:+0100
TZOFFSETTO:+0200
TZNAME:CEST
DTSTART:20190331T010000
END:DAYLIGHT
BEGIN:STANDARD
TZOFFSETFROM:+0200
TZOFFSETTO:+0100
TZNAME:CET
DTSTART:20191027T010000
END:STANDARD
END:VTIMEZONE
BEGIN:VEVENT
DTSTART;TZID=Europe/Paris:20180402T173000
DTEND;TZID=Europe/Paris:20180402T213000
DTSTAMP:20260424T192108
CREATED:20180308T103946Z
LAST-MODIFIED:20180308T103946Z
UID:7359-1522690200-1522704600@choreacorps.fr
SUMMARY:Modification des horaires le Lundi 2 Avril 2018 (férié)
DESCRIPTION:Cours du Lundi 2 Avril 2018 (férié) : \n\n17h30-18h30 Initiation\n18h30-19h15 Barre a terre ( cours midi et soir réunis)\n19h15-21hoo Adultes Classique ET Moderne (spectacle)
URL:https://choreacorps.fr/agenda/modification-des-horaires-le-lundi-2-avril-2018-ferie/
LOCATION:Studio Accor’Dance à Colomiers\, 11\, Chemin De Bordeblanque\, Colomiers\, 31770\, France
CATEGORIES:Modifications Planning
END:VEVENT
BEGIN:VEVENT
DTSTART;TZID=Europe/Paris:20180411T141500
DTEND;TZID=Europe/Paris:20180411T174500
DTSTAMP:20260424T192108
CREATED:20180308T104219Z
LAST-MODIFIED:20180308T104219Z
UID:7367-1523456100-1523468700@choreacorps.fr
SUMMARY:Modification des horaires le Mercredi 11 Avril 2018 à St Martin du Touch
DESCRIPTION:Cours du Mercredi 11 Avril 2018 à St Martin du Touch : \n\n14h15 15h45 Développement technique\n15h45 17h15 Classique Préparatoire mercredi ET samedi ( Arènes)\n16h45 17h45 Eveil mercredi (St Martin) ET samedi ( Arenes)
URL:https://choreacorps.fr/agenda/modification-des-horaires-le-mercredi-11-avril-2018-a-st-martin-du-touch/
LOCATION:Mairie Annexe de Saint-Martin-du-Touch\, 2\, Rue René Sentenac\, Toulouse\, 31300\, France
CATEGORIES:Modifications Planning
END:VEVENT
BEGIN:VEVENT
DTSTART;VALUE=DATE:20180414
DTEND;VALUE=DATE:20180415
DTSTAMP:20260424T192108
CREATED:20180308T104348Z
LAST-MODIFIED:20180308T104348Z
UID:7368-1523664000-1523750399@choreacorps.fr
SUMMARY:Samedi 14 Avril 2018 : cours aux horaires et lieux habituels
DESCRIPTION:
URL:https://choreacorps.fr/agenda/samedi-14-avril-2018-cours-aux-horaires-et-lieux-habituels/
CATEGORIES:Modifications Planning
END:VEVENT
BEGIN:VEVENT
DTSTART;VALUE=DATE:20180418
DTEND;VALUE=DATE:20180426
DTSTAMP:20260424T192108
CREATED:20180308T110311Z
LAST-MODIFIED:20180416T170144Z
UID:7382-1524009600-1524700799@choreacorps.fr
SUMMARY:Planning Vacances de Printemps du Mercredi 18 au Mercredi 25 Avril 2018
DESCRIPTION:Précision : il n’y a AUCUN cours adultes en journée pendant les vacances. \nLes salles municipales n’étant pas toujours disponibles durant les vacances scolaires\, merci de vérifier le lieu de vos cours ci-dessous : \nLundi 16 Avril et Mardi 17 Avril :\nPas de cours. \nMercredi 18 Avril 2018 les cours de St Martin du Touch seront donnés à Colomiers au Studio ACCOR’DANCE aux horaires suivants : \n\n15h15-16h15 : Développement Technique\n16h30-17h30 : Classique preparatoire du mercredi (St Martin)et du samedi (Arenes Romaines)\n17h30-18h30 : Eveil du mercredi (St Martin) et samedi (Arènes Romaines)\n18h45-19h45 : Pilates (tous cours confondus)\n19h45-21h00 : Classique adultes du mardi ET Classique adultes du lundi ET Moderne adultes du lundi\n\nJeudi 19 Avril 2018 ST MARTIN : \n\nTous les cours maintenus à ST Martin du Touch (cours du jeudi midi invités au cours du soir) aux horaires habituels sauf pour le cours classique moyens/élémentaires.\n\nVendredi 20 Avril 2018 STUDIO ACCOR’DANCE : \n\n18h15-19h30 : Classique Elémentaire\n19h30-20h30 Pointes\n20h30-21h30 Classique intermédiaire (sous réserve d’effectif).\n\nSamedi 21 Avril :\nPas de cours. \nLundi 23 Avril 2018 STUDIO ACCOR’DANCE :\nLes cours en journée seront maintenus si le nombre de participants est suffisant\, voir avec Nadège. \n\n17h30-18h30 Initiation lundi et Initiation samedi (Arènes)\n18h30-19h15 Barre à Terre\n19h30-20h45 Classique adulte\n20h15-22h00 Moderne adulte\n\nMardi 24 Avril 2018 Studio ACCOR’DANCE : \n\n17h30-19h00:TOUS les Classique préparatoires (Colomiers\, St martin\, Arènes)\n18h45-19h45 Classique moyen mardi et moyen élémentaire jeudi\n19h45-20h45 Pilates Tous les cours confondus\n20h45-22h00 Classique Adultes : Tous les groupes (lundi\, mardi\, jeudi)\n\nMercredi 25 Avril 2018 Studio ACCOR’DANCE : \n\nCours avec Eric : Tous les groupes aux horaires habituels\n\nJeudi 26 Avril\, Vendredi 27 Avril et Samedi 28 Avril:\nPas de cours.
URL:https://choreacorps.fr/agenda/planning-vacances-de-printemps-du-mercredi-18-au-mercredi-25-avril-2018/
CATEGORIES:Modifications Planning
END:VEVENT
BEGIN:VEVENT
DTSTART;VALUE=DATE:20180425
DTEND;VALUE=DATE:20180426
DTSTAMP:20260424T192108
CREATED:20180308T102428Z
LAST-MODIFIED:20180309T100457Z
UID:7357-1524614400-1524700799@choreacorps.fr
SUMMARY:Cours de jazz avec Eric (rattrapage)
DESCRIPTION:Cours de jazz avec Eric (rattrapage) : \nSamedi 17 Mars : \n\n10h45-11h45 Initiation\n11h45-13h00 Intermédiaire\n\nSamedi 24 Mars : \n\n10h45-11h30 Eveil\n11h30-12h45 Elémentaire\n16h00-17h00 : Moyen\n\nJeudi 29 Mars : \n\n19h45-21h00 Adultes\n\nMercredi 25 Avril : \n\nTous les groupes aux horaires habituels
URL:https://choreacorps.fr/agenda/cours-de-jazz-avec-eric-rattrapage-4/
LOCATION:Studio Accor’Dance à Colomiers\, 11\, Chemin De Bordeblanque\, Colomiers\, 31770\, France
CATEGORIES:Modifications Planning
END:VEVENT
BEGIN:VEVENT
DTSTART;VALUE=DATE:20180430
DTEND;VALUE=DATE:20180502
DTSTAMP:20260424T192108
CREATED:20180116T123246Z
LAST-MODIFIED:20180116T123246Z
UID:7247-1525046400-1525219199@choreacorps.fr
SUMMARY:Pas de cours lundi 30 Avril et mardi 1er Mai
DESCRIPTION:
URL:https://choreacorps.fr/agenda/de-cours-lundi-30-avril-mardi-1er-mai/
LOCATION:Studio Accor’Dance à Colomiers\, 11\, Chemin De Bordeblanque\, Colomiers\, 31770\, France
CATEGORIES:Modifications Planning
END:VEVENT
END:VCALENDAR