BEGIN:VCALENDAR
VERSION:2.0
PRODID:-//CHORE A CORPS - ECPv6.15.16//NONSGML v1.0//EN
CALSCALE:GREGORIAN
METHOD:PUBLISH
X-WR-CALNAME:CHORE A CORPS
X-ORIGINAL-URL:https://choreacorps.fr
X-WR-CALDESC:Évènements pour CHORE A CORPS
REFRESH-INTERVAL;VALUE=DURATION:PT1H
X-Robots-Tag:noindex
X-PUBLISHED-TTL:PT1H
BEGIN:VTIMEZONE
TZID:Europe/Paris
BEGIN:DAYLIGHT
TZOFFSETFROM:+0100
TZOFFSETTO:+0200
TZNAME:CEST
DTSTART:20160327T010000
END:DAYLIGHT
BEGIN:STANDARD
TZOFFSETFROM:+0200
TZOFFSETTO:+0100
TZNAME:CET
DTSTART:20161030T010000
END:STANDARD
BEGIN:DAYLIGHT
TZOFFSETFROM:+0100
TZOFFSETTO:+0200
TZNAME:CEST
DTSTART:20170326T010000
END:DAYLIGHT
BEGIN:STANDARD
TZOFFSETFROM:+0200
TZOFFSETTO:+0100
TZNAME:CET
DTSTART:20171029T010000
END:STANDARD
BEGIN:DAYLIGHT
TZOFFSETFROM:+0100
TZOFFSETTO:+0200
TZNAME:CEST
DTSTART:20180325T010000
END:DAYLIGHT
BEGIN:STANDARD
TZOFFSETFROM:+0200
TZOFFSETTO:+0100
TZNAME:CET
DTSTART:20181028T010000
END:STANDARD
END:VTIMEZONE
BEGIN:VEVENT
DTSTART;TZID=Europe/Paris:20170404T190000
DTEND;TZID=Europe/Paris:20170404T190000
DTSTAMP:20260425T174913
CREATED:20170403T144017Z
LAST-MODIFIED:20170403T144017Z
UID:6628-1491332400-1491332400@choreacorps.fr
SUMMARY:Cours Adultes classique 1
DESCRIPTION:Répétition « Mamans »
URL:https://choreacorps.fr/agenda/cours-adultes-classique-1/
LOCATION:Studio Accor’Dance à Colomiers\, 11\, Chemin De Bordeblanque\, Colomiers\, 31770\, France
CATEGORIES:Gala,Modifications Planning
END:VEVENT
BEGIN:VEVENT
DTSTART;TZID=Europe/Paris:20170404T201500
DTEND;TZID=Europe/Paris:20170404T201500
DTSTAMP:20260425T174913
CREATED:20170403T144315Z
LAST-MODIFIED:20170403T144315Z
UID:6630-1491336900-1491336900@choreacorps.fr
SUMMARY:Cours classique Adultes 2
DESCRIPTION:Répétition « Gladiator »
URL:https://choreacorps.fr/agenda/cours-classique-adultes-2/
LOCATION:Studio Accor’Dance à Colomiers\, 11\, Chemin De Bordeblanque\, Colomiers\, 31770\, France
CATEGORIES:Gala,Modifications Planning,vacances
END:VEVENT
BEGIN:VEVENT
DTSTART;TZID=Europe/Paris:20170405T170000
DTEND;TZID=Europe/Paris:20170405T213000
DTSTAMP:20260425T174913
CREATED:20170403T145106Z
LAST-MODIFIED:20170403T145503Z
UID:6632-1491411600-1491427800@choreacorps.fr
SUMMARY:REPETITIONS cf details
DESCRIPTION:17h à 18h45 pour Alix et Clément \n17h30 à 18h45 pour Carla C\, Maylie E\, Liz F ; le groupe Développement technique ; le groupe classique moyen du jeudi \n18h45 à 20hoo POINTES 1 ET 2 Tous groupes confondus \n20h00 à 21h30: Moderne Adultes du mercredi \n  \n  \n  \n 
URL:https://choreacorps.fr/agenda/repetitions-cf-details/
LOCATION:Studio Accor’Dance à Colomiers\, 11\, Chemin De Bordeblanque\, Colomiers\, 31770\, France
CATEGORIES:Gala,Modifications Planning,vacances
END:VEVENT
END:VCALENDAR